BEGIN:VCALENDAR
VERSION:2.0
PRODID:-//Church Of The Open Door - ECPv6.15.19//NONSGML v1.0//EN
CALSCALE:GREGORIAN
METHOD:PUBLISH
X-ORIGINAL-URL:https://nathanbryantministries.com
X-WR-CALDESC:Events for Church Of The Open Door
REFRESH-INTERVAL;VALUE=DURATION:PT1H
X-Robots-Tag:noindex
X-PUBLISHED-TTL:PT1H
BEGIN:VTIMEZONE
TZID:America/New_York
BEGIN:DAYLIGHT
TZOFFSETFROM:-0500
TZOFFSETTO:-0400
TZNAME:EDT
DTSTART:20220313T070000
END:DAYLIGHT
BEGIN:STANDARD
TZOFFSETFROM:-0400
TZOFFSETTO:-0500
TZNAME:EST
DTSTART:20221106T060000
END:STANDARD
BEGIN:DAYLIGHT
TZOFFSETFROM:-0500
TZOFFSETTO:-0400
TZNAME:EDT
DTSTART:20230312T070000
END:DAYLIGHT
BEGIN:STANDARD
TZOFFSETFROM:-0400
TZOFFSETTO:-0500
TZNAME:EST
DTSTART:20231105T060000
END:STANDARD
BEGIN:DAYLIGHT
TZOFFSETFROM:-0500
TZOFFSETTO:-0400
TZNAME:EDT
DTSTART:20240310T070000
END:DAYLIGHT
BEGIN:STANDARD
TZOFFSETFROM:-0400
TZOFFSETTO:-0500
TZNAME:EST
DTSTART:20241103T060000
END:STANDARD
END:VTIMEZONE
BEGIN:VEVENT
DTSTART;TZID=America/New_York:20230924T103000
DTEND;TZID=America/New_York:20230924T103000
DTSTAMP:20260419T161459
CREATED:20230629T184116Z
LAST-MODIFIED:20230629T184116Z
UID:8082-1695551400-1695551400@nathanbryantministries.com
SUMMARY:Sunday School
DESCRIPTION:Sunday School
URL:https://nathanbryantministries.com/event/sunday-school-27/
LOCATION:Church of the Open Door\, 1221 Silver Street\, New Albany\, IN\, 47150\, United States
CATEGORIES:Sunday School
END:VEVENT
BEGIN:VEVENT
DTSTART;TZID=America/New_York:20230917T103000
DTEND;TZID=America/New_York:20230917T103000
DTSTAMP:20260419T161459
CREATED:20230629T184115Z
LAST-MODIFIED:20230629T184115Z
UID:8078-1694946600-1694946600@nathanbryantministries.com
SUMMARY:Sunday School
DESCRIPTION:Sunday School
URL:https://nathanbryantministries.com/event/sunday-school-26/
LOCATION:Church of the Open Door\, 1221 Silver Street\, New Albany\, IN\, 47150\, United States
CATEGORIES:Sunday School
END:VEVENT
BEGIN:VEVENT
DTSTART;TZID=America/New_York:20230910T103000
DTEND;TZID=America/New_York:20230910T103000
DTSTAMP:20260419T161459
CREATED:20230629T184101Z
LAST-MODIFIED:20230629T184101Z
UID:8074-1694341800-1694341800@nathanbryantministries.com
SUMMARY:Sunday School
DESCRIPTION:Sunday School
URL:https://nathanbryantministries.com/event/sunday-school-25/
LOCATION:Church of the Open Door\, 1221 Silver Street\, New Albany\, IN\, 47150\, United States
CATEGORIES:Sunday School
END:VEVENT
BEGIN:VEVENT
DTSTART;TZID=America/New_York:20230903T103000
DTEND;TZID=America/New_York:20230903T103000
DTSTAMP:20260419T161459
CREATED:20230629T184008Z
LAST-MODIFIED:20230629T184008Z
UID:8070-1693737000-1693737000@nathanbryantministries.com
SUMMARY:Sunday School
DESCRIPTION:Sunday School
URL:https://nathanbryantministries.com/event/sunday-school-24/
LOCATION:Church of the Open Door\, 1221 Silver Street\, New Albany\, IN\, 47150\, United States
CATEGORIES:Sunday School
END:VEVENT
BEGIN:VEVENT
DTSTART;TZID=America/New_York:20230827T103000
DTEND;TZID=America/New_York:20230827T103000
DTSTAMP:20260419T161459
CREATED:20230629T183953Z
LAST-MODIFIED:20230629T183953Z
UID:8066-1693132200-1693132200@nathanbryantministries.com
SUMMARY:Sunday School
DESCRIPTION:Sunday School
URL:https://nathanbryantministries.com/event/sunday-school-23/
LOCATION:Church of the Open Door\, 1221 Silver Street\, New Albany\, IN\, 47150\, United States
CATEGORIES:Sunday School
END:VEVENT
BEGIN:VEVENT
DTSTART;TZID=America/New_York:20230820T103000
DTEND;TZID=America/New_York:20230820T103000
DTSTAMP:20260419T161459
CREATED:20230629T183938Z
LAST-MODIFIED:20230629T183938Z
UID:8057-1692527400-1692527400@nathanbryantministries.com
SUMMARY:Sunday School
DESCRIPTION:Sunday School
URL:https://nathanbryantministries.com/event/sunday-school-22/
LOCATION:Church of the Open Door\, 1221 Silver Street\, New Albany\, IN\, 47150\, United States
CATEGORIES:Sunday School
END:VEVENT
BEGIN:VEVENT
DTSTART;TZID=America/New_York:20230813T103000
DTEND;TZID=America/New_York:20230813T103000
DTSTAMP:20260419T161459
CREATED:20230629T183937Z
LAST-MODIFIED:20230629T183938Z
UID:8053-1691922600-1691922600@nathanbryantministries.com
SUMMARY:Sunday School
DESCRIPTION:Sunday School
URL:https://nathanbryantministries.com/event/sunday-school-21/
LOCATION:Church of the Open Door\, 1221 Silver Street\, New Albany\, IN\, 47150\, United States
CATEGORIES:Sunday School
END:VEVENT
BEGIN:VEVENT
DTSTART;TZID=America/New_York:20230806T103000
DTEND;TZID=America/New_York:20230806T103000
DTSTAMP:20260419T161459
CREATED:20230629T183934Z
LAST-MODIFIED:20230629T183934Z
UID:8049-1691317800-1691317800@nathanbryantministries.com
SUMMARY:Sunday School
DESCRIPTION:Sunday School
URL:https://nathanbryantministries.com/event/sunday-school-20/
LOCATION:Church of the Open Door\, 1221 Silver Street\, New Albany\, IN\, 47150\, United States
CATEGORIES:Sunday School
END:VEVENT
BEGIN:VEVENT
DTSTART;TZID=America/New_York:20230730T103000
DTEND;TZID=America/New_York:20230730T103000
DTSTAMP:20260419T161459
CREATED:20230629T181620Z
LAST-MODIFIED:20230629T181620Z
UID:8043-1690713000-1690713000@nathanbryantministries.com
SUMMARY:Sunday School
DESCRIPTION:Sunday School
URL:https://nathanbryantministries.com/event/sunday-school-19/
LOCATION:Church of the Open Door\, 1221 Silver Street\, New Albany\, IN\, 47150\, United States
CATEGORIES:Sunday School
END:VEVENT
BEGIN:VEVENT
DTSTART;TZID=America/New_York:20230723T103000
DTEND;TZID=America/New_York:20230723T103000
DTSTAMP:20260419T161459
CREATED:20230629T181601Z
LAST-MODIFIED:20230629T181601Z
UID:8039-1690108200-1690108200@nathanbryantministries.com
SUMMARY:Sunday School
DESCRIPTION:Sunday School
URL:https://nathanbryantministries.com/event/sunday-school-18/
LOCATION:Church of the Open Door\, 1221 Silver Street\, New Albany\, IN\, 47150\, United States
CATEGORIES:Sunday School
END:VEVENT
BEGIN:VEVENT
DTSTART;TZID=America/New_York:20230716T103000
DTEND;TZID=America/New_York:20230716T103000
DTSTAMP:20260419T161459
CREATED:20230629T181546Z
LAST-MODIFIED:20230629T181546Z
UID:8035-1689503400-1689503400@nathanbryantministries.com
SUMMARY:Sunday School
DESCRIPTION:Sunday School
URL:https://nathanbryantministries.com/event/sunday-school-17/
LOCATION:Church of the Open Door\, 1221 Silver Street\, New Albany\, IN\, 47150\, United States
CATEGORIES:Sunday School
END:VEVENT
BEGIN:VEVENT
DTSTART;TZID=America/New_York:20230709T103000
DTEND;TZID=America/New_York:20230709T103000
DTSTAMP:20260419T161459
CREATED:20230629T181545Z
LAST-MODIFIED:20230629T181545Z
UID:8031-1688898600-1688898600@nathanbryantministries.com
SUMMARY:Sunday School
DESCRIPTION:Sunday School
URL:https://nathanbryantministries.com/event/sunday-school-16/
LOCATION:Church of the Open Door\, 1221 Silver Street\, New Albany\, IN\, 47150\, United States
CATEGORIES:Sunday School
END:VEVENT
BEGIN:VEVENT
DTSTART;TZID=America/New_York:20230702T103000
DTEND;TZID=America/New_York:20230702T103000
DTSTAMP:20260419T161459
CREATED:20230629T181357Z
LAST-MODIFIED:20230629T181357Z
UID:8027-1688293800-1688293800@nathanbryantministries.com
SUMMARY:Sunday School
DESCRIPTION:Sunday School
URL:https://nathanbryantministries.com/event/sunday-school-15/
LOCATION:Church of the Open Door\, 1221 Silver Street\, New Albany\, IN\, 47150\, United States
CATEGORIES:Sunday School
END:VEVENT
BEGIN:VEVENT
DTSTART;TZID=America/New_York:20230625T103000
DTEND;TZID=America/New_York:20230625T103000
DTSTAMP:20260419T161459
CREATED:20230629T181344Z
LAST-MODIFIED:20230629T181344Z
UID:8023-1687689000-1687689000@nathanbryantministries.com
SUMMARY:Sunday School
DESCRIPTION:Sunday School
URL:https://nathanbryantministries.com/event/sunday-school-14/
LOCATION:Church of the Open Door\, 1221 Silver Street\, New Albany\, IN\, 47150\, United States
CATEGORIES:Sunday School
END:VEVENT
BEGIN:VEVENT
DTSTART;TZID=America/New_York:20230618T103000
DTEND;TZID=America/New_York:20230618T103000
DTSTAMP:20260419T161459
CREATED:20230629T181342Z
LAST-MODIFIED:20230629T181342Z
UID:8019-1687084200-1687084200@nathanbryantministries.com
SUMMARY:Sunday School
DESCRIPTION:Sunday School
URL:https://nathanbryantministries.com/event/sunday-school-13/
LOCATION:Church of the Open Door\, 1221 Silver Street\, New Albany\, IN\, 47150\, United States
CATEGORIES:Sunday School
END:VEVENT
BEGIN:VEVENT
DTSTART;TZID=America/New_York:20230611T103000
DTEND;TZID=America/New_York:20230611T103000
DTSTAMP:20260419T161459
CREATED:20230629T181340Z
LAST-MODIFIED:20230629T181340Z
UID:8015-1686479400-1686479400@nathanbryantministries.com
SUMMARY:Sunday School
DESCRIPTION:Sunday School
URL:https://nathanbryantministries.com/event/sunday-school-12/
LOCATION:Church of the Open Door\, 1221 Silver Street\, New Albany\, IN\, 47150\, United States
CATEGORIES:Sunday School
END:VEVENT
BEGIN:VEVENT
DTSTART;TZID=America/New_York:20230604T103000
DTEND;TZID=America/New_York:20230604T103000
DTSTAMP:20260419T161459
CREATED:20230629T181339Z
LAST-MODIFIED:20230629T181339Z
UID:8011-1685874600-1685874600@nathanbryantministries.com
SUMMARY:Sunday School
DESCRIPTION:Sunday School
URL:https://nathanbryantministries.com/event/sunday-school-11/
LOCATION:Church of the Open Door\, 1221 Silver Street\, New Albany\, IN\, 47150\, United States
CATEGORIES:Sunday School
END:VEVENT
BEGIN:VEVENT
DTSTART;TZID=America/New_York:20230528T103000
DTEND;TZID=America/New_York:20230528T103000
DTSTAMP:20260419T161459
CREATED:20230512T213438Z
LAST-MODIFIED:20230512T213438Z
UID:7812-1685269800-1685269800@nathanbryantministries.com
SUMMARY:Sunday School
DESCRIPTION:Sunday School
URL:https://nathanbryantministries.com/event/sunday-school-10/
LOCATION:Church of the Open Door\, 1221 Silver Street\, New Albany\, IN\, 47150\, United States
CATEGORIES:Sunday School
END:VEVENT
BEGIN:VEVENT
DTSTART;TZID=America/New_York:20230521T103000
DTEND;TZID=America/New_York:20230521T103000
DTSTAMP:20260419T161459
CREATED:20230512T213409Z
LAST-MODIFIED:20230512T213409Z
UID:7808-1684665000-1684665000@nathanbryantministries.com
SUMMARY:Sunday School
DESCRIPTION:Sunday School
URL:https://nathanbryantministries.com/event/sunday-school-9/
LOCATION:Church of the Open Door\, 1221 Silver Street\, New Albany\, IN\, 47150\, United States
CATEGORIES:Sunday School
END:VEVENT
BEGIN:VEVENT
DTSTART;TZID=America/New_York:20230514T103000
DTEND;TZID=America/New_York:20230514T103000
DTSTAMP:20260419T161459
CREATED:20230512T213406Z
LAST-MODIFIED:20230512T213406Z
UID:7804-1684060200-1684060200@nathanbryantministries.com
SUMMARY:Sunday School
DESCRIPTION:Sunday School
URL:https://nathanbryantministries.com/event/sunday-school-8/
LOCATION:Church of the Open Door\, 1221 Silver Street\, New Albany\, IN\, 47150\, United States
CATEGORIES:Sunday School
END:VEVENT
BEGIN:VEVENT
DTSTART;TZID=America/New_York:20230507T103000
DTEND;TZID=America/New_York:20230507T103000
DTSTAMP:20260419T161459
CREATED:20230512T213404Z
LAST-MODIFIED:20230512T213404Z
UID:7800-1683455400-1683455400@nathanbryantministries.com
SUMMARY:Sunday School
DESCRIPTION:Sunday School
URL:https://nathanbryantministries.com/event/sunday-school-7/
LOCATION:Church of the Open Door\, 1221 Silver Street\, New Albany\, IN\, 47150\, United States
CATEGORIES:Sunday School
END:VEVENT
BEGIN:VEVENT
DTSTART;TZID=America/New_York:20230430T103000
DTEND;TZID=America/New_York:20230430T103000
DTSTAMP:20260419T161459
CREATED:20230512T213404Z
LAST-MODIFIED:20230512T213404Z
UID:7796-1682850600-1682850600@nathanbryantministries.com
SUMMARY:Sunday School
DESCRIPTION:Sunday School
URL:https://nathanbryantministries.com/event/sunday-school-6/
LOCATION:Church of the Open Door\, 1221 Silver Street\, New Albany\, IN\, 47150\, United States
CATEGORIES:Sunday School
END:VEVENT
BEGIN:VEVENT
DTSTART;TZID=America/New_York:20230326T103000
DTEND;TZID=America/New_York:20230326T103000
DTSTAMP:20260419T161459
CREATED:20230223T155930Z
LAST-MODIFIED:20230223T155930Z
UID:7432-1679826600-1679826600@nathanbryantministries.com
SUMMARY:Sunday School
DESCRIPTION:Sunday School
URL:https://nathanbryantministries.com/event/sunday-school-5/
LOCATION:IN
CATEGORIES:Sunday School
END:VEVENT
BEGIN:VEVENT
DTSTART;TZID=America/New_York:20230319T103000
DTEND;TZID=America/New_York:20230319T103000
DTSTAMP:20260419T161459
CREATED:20230223T155915Z
LAST-MODIFIED:20230223T155915Z
UID:7428-1679221800-1679221800@nathanbryantministries.com
SUMMARY:Sunday School
DESCRIPTION:Sunday School
URL:https://nathanbryantministries.com/event/sunday-school-4/
LOCATION:IN
CATEGORIES:Sunday School
END:VEVENT
BEGIN:VEVENT
DTSTART;TZID=America/New_York:20230312T103000
DTEND;TZID=America/New_York:20230312T103000
DTSTAMP:20260419T161459
CREATED:20230223T155900Z
LAST-MODIFIED:20230223T155900Z
UID:7424-1678617000-1678617000@nathanbryantministries.com
SUMMARY:Sunday School
DESCRIPTION:Sunday School
URL:https://nathanbryantministries.com/event/sunday-school-3/
LOCATION:IN
CATEGORIES:Sunday School
END:VEVENT
BEGIN:VEVENT
DTSTART;TZID=America/New_York:20230305T103000
DTEND;TZID=America/New_York:20230305T103000
DTSTAMP:20260419T161459
CREATED:20230223T155857Z
LAST-MODIFIED:20230223T155857Z
UID:7420-1678012200-1678012200@nathanbryantministries.com
SUMMARY:Sunday School
DESCRIPTION:Sunday School
URL:https://nathanbryantministries.com/event/sunday-school-2/
LOCATION:IN
CATEGORIES:Sunday School
END:VEVENT
BEGIN:VEVENT
DTSTART;TZID=America/New_York:20230226T103000
DTEND;TZID=America/New_York:20230226T103000
DTSTAMP:20260419T161459
CREATED:20230223T155856Z
LAST-MODIFIED:20230223T155856Z
UID:7416-1677407400-1677407400@nathanbryantministries.com
SUMMARY:Sunday School
DESCRIPTION:Sunday School
URL:https://nathanbryantministries.com/event/sunday-school/
LOCATION:IN
CATEGORIES:Sunday School
END:VEVENT
END:VCALENDAR